BEGIN:VCALENDAR
VERSION:2.0
PRODID:-//Tukios.com/
BEGIN:VEVENT
UID:8b516f98-6c6b-4ce6-a29b-b74bed4771f5@obituaries.vistafunerals.com
DTSTAMP:20260419T191429Z
DTSTART:20260423T173000Z
DTEND:20260423T180000Z
SUMMARY:Burial
DESCRIPTION:
URL:https://obituaries.vistafunerals.com/obituaries/yrcia-bambino-amador
LOCATION: 14200 Northwest 57th Avenue  Miami Lakes FL 33014
GEO:25.9030068;-80.2934215
END:VEVENT
END:VCALENDAR