BEGIN:VCALENDAR
VERSION:2.0
PRODID:-//Tukios.com/
BEGIN:VEVENT
UID:cdee1f80-d303-4cb8-9d7b-e7e77793adea@obituaries.vistafunerals.com
DTSTAMP:20260419T191957Z
DTSTART:20260423T130000Z
DTEND:20260423T173000Z
SUMMARY:Visitation
DESCRIPTION:
URL:https://obituaries.vistafunerals.com/obituaries/yrcia-bambino-amador
LOCATION: 5755 NW 142nd St  Miami Lakes FL 33014
GEO:25.9028035;-80.2938061
END:VEVENT
END:VCALENDAR