BEGIN:VCALENDAR
VERSION:2.0
PRODID:-//Tukios.com/
BEGIN:VEVENT
UID:0b79ab22-428f-4562-8c8d-7a7fc95d19f9@obituaries.vistafunerals.com
DTSTAMP:20260419T185913Z
DTSTART:20260424T143000Z
DTEND:20260424T150000Z
SUMMARY:Mausoleum Entombment
DESCRIPTION:
URL:https://obituaries.vistafunerals.com/obituaries/otmara-munoz
LOCATION: 14200 Northwest 57th Avenue  Miami Lakes FL 33014
GEO:25.9030068;-80.2934215
END:VEVENT
END:VCALENDAR