BEGIN:VCALENDAR
VERSION:2.0
PRODID:-//Tukios.com/
BEGIN:VEVENT
UID:8707e434-00cc-42c7-abc6-906c75ab8a03@obituaries.vistafunerals.com
DTSTAMP:20260419T190423Z
DTSTART:20260423T220000Z
DTEND:20260424T020000Z
SUMMARY:Visitation
DESCRIPTION:
URL:https://obituaries.vistafunerals.com/obituaries/otmara-munoz
LOCATION: 5755 NW 142nd St  Miami Lakes FL 33014
GEO:25.9028035;-80.2938061
END:VEVENT
END:VCALENDAR