BEGIN:VCALENDAR
VERSION:2.0
PRODID:-//Tukios.com/
BEGIN:VEVENT
UID:7606aff3-59d7-41e3-8ee5-b10331ba4ed8@obituaries.vistafunerals.com
DTSTAMP:20260424T201058Z
DTSTART:20260430T153000Z
DTEND:20260430T160000Z
SUMMARY:Graveside Service
DESCRIPTION:
URL:https://obituaries.vistafunerals.com/obituaries/mariana-gamez
LOCATION: 14200 Northwest 57th Avenue  Miami Lakes FL 33014
GEO:25.9030068;-80.2934215
END:VEVENT
END:VCALENDAR