BEGIN:VCALENDAR
VERSION:2.0
PRODID:-//Tukios.com/
BEGIN:VEVENT
UID:70be4f42-a008-4ecc-884e-8cb53e8a1ab5@obituaries.vistafunerals.com
DTSTAMP:20260424T200604Z
DTSTART:20260429T220000Z
DTEND:20260430T020000Z
SUMMARY:Visitation
DESCRIPTION:
URL:https://obituaries.vistafunerals.com/obituaries/mariana-gamez
LOCATION: 5755 NW 142nd St  Miami Lakes FL 33014
GEO:25.9028035;-80.2938061
END:VEVENT
END:VCALENDAR