BEGIN:VCALENDAR
VERSION:2.0
PRODID:-//Tukios.com/
BEGIN:VEVENT
UID:6a856c3d-76d5-4374-865e-fa8b6b59ae55@obituaries.vistafunerals.com
DTSTAMP:20260421T181925Z
DTSTART:20260427T170000Z
DTEND:20260427T173000Z
SUMMARY:Burial
DESCRIPTION:
URL:https://obituaries.vistafunerals.com/obituaries/maragrita-cruz
LOCATION: 14200 Northwest 57th Avenue  Miami Lakes FL 33014
GEO:25.9030068;-80.2934215
END:VEVENT
END:VCALENDAR