BEGIN:VCALENDAR
VERSION:2.0
PRODID:-//Tukios.com/
BEGIN:VEVENT
UID:fba6d8fe-d63b-4438-9152-2204a5436f08@obituaries.vistafunerals.com
DTSTAMP:20260421T124657Z
DTSTART:20260420T173000Z
DTEND:20260420T180000Z
SUMMARY:Mausoleum Entombment
DESCRIPTION:
URL:https://obituaries.vistafunerals.com/obituaries/isabel-brea
LOCATION: 14200 Northwest 57th Avenue  Miami Lakes FL 33014
GEO:25.9030068;-80.2934215
END:VEVENT
END:VCALENDAR