BEGIN:VCALENDAR
VERSION:2.0
PRODID:-//Tukios.com/
BEGIN:VEVENT
UID:56dc2969-b2c9-4e79-82f3-209aaedcdcf7@obituaries.vistafunerals.com
DTSTAMP:20260424T201338Z
DTSTART:20260430T173000Z
DTEND:20260430T180000Z
SUMMARY:Burial
DESCRIPTION:
URL:https://obituaries.vistafunerals.com/obituaries/francisco-freixas
LOCATION: 14200 Northwest 57th Avenue  Miami Lakes FL 33014
GEO:25.9030068;-80.2934215
END:VEVENT
END:VCALENDAR