BEGIN:VCALENDAR
VERSION:2.0
PRODID:-//Tukios.com/
BEGIN:VEVENT
UID:0b694b30-59df-400a-a16e-2cb37173348c@obituaries.vistafunerals.com
DTSTAMP:20260424T201433Z
DTSTART:20260430T130000Z
DTEND:20260430T173000Z
SUMMARY:Visitation
DESCRIPTION:
URL:https://obituaries.vistafunerals.com/obituaries/francisco-freixas
LOCATION: 5755 NW 142nd St  Miami Lakes FL 33014
GEO:25.9028035;-80.2938061
END:VEVENT
END:VCALENDAR