BEGIN:VCALENDAR
VERSION:2.0
PRODID:-//Tukios.com/
BEGIN:VEVENT
UID:e3b0a3f8-a9b2-4a1f-97a7-ddb0ef3c4b42@obituaries.vistafunerals.com
DTSTAMP:20260420T171514Z
DTSTART:20260424T173000Z
DTEND:20260424T180000Z
SUMMARY:Mausoleum Entombment
DESCRIPTION:
URL:https://obituaries.vistafunerals.com/obituaries/dania-diaz-lopez
LOCATION: 14200 Northwest 57th Avenue  Miami Lakes FL 33014
GEO:25.9030068;-80.2934215
END:VEVENT
END:VCALENDAR