BEGIN:VCALENDAR
VERSION:2.0
PRODID:-//Tukios.com/
BEGIN:VEVENT
UID:59578f08-c043-4fad-ab0e-8f9d7721c48f@obituaries.vistafunerals.com
DTSTAMP:20260420T171209Z
DTSTART:20260424T140000Z
DTEND:20260424T173000Z
SUMMARY:Visitation
DESCRIPTION:
URL:https://obituaries.vistafunerals.com/obituaries/dania-diaz-lopez
LOCATION: 5755 NW 142nd St  Miami Lakes FL 33014
GEO:25.9028035;-80.2938061
END:VEVENT
END:VCALENDAR