BEGIN:VCALENDAR
VERSION:2.0
PRODID:-//Tukios.com/
BEGIN:VEVENT
UID:67cccc31-1349-4d38-87a0-051927d28485@obituaries.vistafunerals.com
DTSTAMP:20260422T154800Z
DTSTART:20260423T180000Z
DTEND:20260423T183000Z
SUMMARY:Burial
DESCRIPTION:
URL:https://obituaries.vistafunerals.com/obituaries/billy-key
LOCATION: 14200 Northwest 57th Avenue  Miami Lakes FL 33014
GEO:25.9030068;-80.2934215
END:VEVENT
END:VCALENDAR