BEGIN:VCALENDAR
VERSION:2.0
PRODID:-//Tukios.com/
BEGIN:VEVENT
UID:0859717a-5d3d-4944-b60d-ca0b75161d2d@obituaries.vistafunerals.com
DTSTAMP:20260422T155101Z
DTSTART:20260423T140000Z
DTEND:20260423T174500Z
SUMMARY:Visitation
DESCRIPTION:
URL:https://obituaries.vistafunerals.com/obituaries/billy-key
LOCATION: 5755 NW 142nd St  Miami Lakes FL 33014
GEO:25.9028035;-80.2938061
END:VEVENT
END:VCALENDAR